Workbook
Name Status: Sheet5!$A$1:$A$5
Name YES: Validations!$A$1:$A$2

Sheet Scope List Original
A1: DSM 2013 On-boarding Plan | E1: MAY | J1: JUN | N1: JUL | S1: AUG | W1: SEP | AA1: OCT | AF1: NOV | AJ1: DEC
E2: 18 | F2: 19 | G2: 20 | H2: 21 | I2: 22 | J2: 23 | K2: 24 | L2: 25 | M2: 26 | N2: 27 | O2: 28 | P2: 29 | Q2: 30 | R2: 31 | S2: 32 | T2: 33 | U2: 34 | V2: 35 | W2: 36 | X2: 37 | Y2: 38 | Z2: 39 | AA2: 40 | AB2: 41 | AC2: 42 | AD2: 43 | AE2: 44 | AF2: 45 | AG2: 46 | AH2: 47 | AI2: 48 | AJ2: 49 | AK2: 50 | AL2: 51 | AM2: 52 | AN2: CIO Commitment
B3: MC Petrolook | D3: PT | E3: 1 | F3: 1 | G3: 1c | AN3: YES
B4: MC Sigma | D4: UI | E4: 1 | F4: 1 | G4: 1 | H4: 1 | I4: 1 | J4: 1 | K4: 1c | AN4: YES
B5: MC GFM | D5: GF | E5: 1 | F5: 1 | G5: 1 | H5: 1 | I5: 1 | J5: 1 | K5: 1c | AN5: YES
B6: AGRisk | D6: GF | E6: 1 | F6: 1 | G6: 1 | H6: 1 | I6: 1 | J6: 1 | K6: 1c | AN6: YES
B7: Quantum | D7: GF | E7: 1 | F7: 1 | G7: 1 | H7: 1 | I7: 1 | J7: 1 | K7: 1c | AN7: YES
B8: ArcSight | D8: ITSO | E8: 1 | F8: 1 | G8: 1 | H8: 1 | I8: 1 | J8: 1 | K8: 1c | AN8: YES
B9: GLS Toolset | D9: PT | E9: 1 | F9: 1 | G9: 1 | H9: 1 | I9: 1c | AN9: YES
B10: SAP::CRM::CHM | D10: DS | E10: 1 | F10: 1 | G10: 1c | AN10: YES
B11: Global ICEBOX (P2 & P4 instances) | D11: DS | E11: 1 | F11: 1 | G11: 1 | H11: 1 | I11: 1 | J11: 1 | K11: 1c | AN11: YES
B12: SHARE St. Rose | D12: DS | F12: 1 | G12: 1 | H12: 1 | I12: 1 | J12: 1 | K12: 1 | L12: 1 | M12: 1c | AN12: YES
B13: SPOTFIRE MC | D13: PT | F13: 1 | G13: 1 | H13: 1 | I13: 1 | J13: 1 | K13: 1 | L13: 1 | M13: 1c | AN13: YES
B14: Shell People Business Warehouse | D14: GF | G14: 1 | H14: 1 | I14: 1 | J14: 1 | K14: 1 | L14: 1 | M14: 1 | N14: 1c | AN14: YES
B15: SHELL PEOPLE HR Reporting | D15: GF | G15: 1 | H15: 1 | I15: 1 | J15: 1 | K15: 1 | L15: 1 | M15: 1 | N15: 1c | AN15: YES
B16: Financial Closing Cockpit (FCC) | D16: GF | G16: 1 | H16: 1 | I16: 1 | J16: 1 | K16: 1 | L16: 1 | M16: 1 | N16: 1c | AN16: YES
B17: TSI | D17: GF | G17: 1 | H17: 1 | I17: 1 | J17: 1 | K17: 1 | L17: 1 | M17: 1 | N17: 1c | AN17: YES
B18: Endur Oil | D18: TR | G18: 1 | H18: 1 | I18: 1 | J18: 1 | K18: 1 | L18: 1 | M18: 1 | N18: 1c | AN18: YES
B19: ODW | D19: TR | G19: 1 | H19: 1 | I19: 1 | J19: 1 | K19: 1 | L19: 1 | M19: 1 | N19: 1c | AN19: YES
B20: ERS - Enterprise Reporting Solution (ERS) | D20: GF | I20: 1c | AN20: YES
B21: EDI Hub/ E Banking Hub | D21: GF | J21: 1 | K21: 1 | L21: 1 | M21: 1 | N21: 1 | O21: 1 | P21: 1 | Q21: 1c | AN21: YES
B22: ENOM | D22: TR | J22: 1c | AN22: YES
B23: Energy Components (ALTAMIRA) | D23: UI | K23: 1 | L23: 1 | M23: 1c | AN23: YES
B24: BSI Tax Factory | D24: GF | K24: 1 | L24: 1 | M24: 1 | N24: 1 | O24: 1 | P24: 1 | Q24: 1 | R24: 1c | AN24: YES
B25: MC Sharepoint | D25: ITSO | L25: 1 | M25: 1 | N25: 1 | O25: 1 | P25: 1 | Q25: 1 | R25: 1 | S25: 1c | AN25: YES
B26: SAP US Magellan Syst | D26: DS | L26: 1 | M26: 1 | N26: 1 | O26: 1 | P26: 1 | Q26: 1 | R26: 1 | S26: 1 | T26: 1 | U26: 1 | V26: 1 | W26: 1 | X26: 1 | Y26: 1 | Z26: 1 | AA26: 1c | AN26: YES
B27: SAP US Luminon BW Syst | D27: DS | L27: 1 | M27: 1 | N27: 1 | O27: 1 | P27: 1 | Q27: 1 | R27: 1 | S27: 1 | T27: 1 | U27: 1 | V27: 1 | W27: 1 | X27: 1 | Y27: 1 | Z27: 1 | AA27: 1c | AN27: YES
B28: SAP US Luminon Syst | D28: DS | L28: 1 | M28: 1 | N28: 1 | O28: 1 | P28: 1 | Q28: 1 | R28: 1 | S28: 1 | T28: 1 | U28: 1 | V28: 1 | W28: 1 | X28: 1 | Y28: 1 | Z28: 1 | AA28: 1c | AN28: YES
B29: SAP US Simon Bolt | D29: DS | L29: 1 | M29: 1 | N29: 1 | O29: 1 | P29: 1 | Q29: 1 | R29: 1 | S29: 1 | T29: 1 | U29: 1 | V29: 1 | W29: 1 | X29: 1 | Y29: 1 | Z29: 1 | AA29: 1c | AN29: YES
B30: SABRIX (Munich) | D30: GF | L30: 1 | M30: 1 | N30: 1 | O30: 1 | P30: 1 | Q30: 1 | R30: 1 | S30: 1c | AN30: YES
B31: Sharepoint 2010 | D31: ITSO | L31: 1 | M31: 1 | N31: 1 | O31: 1 | P31: 1 | Q31: 1 | R31: 1 | S31: 1c | AN31: YES
B32: eMarketplace Suite | D32: TR | M32: 1c | AN32: YES
B33: Ergonomed | D33: DS | N33: 1 | O33: 1 | P33: 1 | Q33: 1 | R33: 1 | S33: 1 | T33: 1 | U33: 1c | AN33: YES
B34: SODA | D34: TR | N34: 1 | O34: 1 | P34: 1 | Q34: 1 | R34: 1 | S34: 1 | T34: 1 | U34: 1c | AN34: YES
B35: TRIM (non-MC) | D35: GF | N35: 1 | O35: 1 | P35: 1 | Q35: 1 | R35: 1 | S35: 1 | T35: 1 | U35: 1c | AN35: YES
B36: Energy Components (GABON) | D36: UI | N36: 1 | O36: 1 | P36: 1c | AN36: YES
B37: BOS (Red Prairie Retail - Head Office) | D37: DS | O37: 1 | P37: 1 | Q37: 1 | R37: 1 | S37: 1 | T37: 1 | U37: 1 | V37: 1c | AN37: YES
B38: SAP BUSINESS WAREHOUSE | D38: UI | O38: 1 | P38: 1 | Q38: 1 | R38: 1 | S38: 1 | T38: 1 | U38: 1 | V38: 1c | AN38: YES
B39: Energy Components (KASHAGAN) | D39: UI | O39: 1 | P39: 1 | Q39: 1c | AN39: YES
B40: CONVERGE | D40: UI | P40: 1 | Q40: 1 | R40: 1 | S40: 1 | T40: 1 | U40: 1 | V40: 1 | W40: 1c | AN40: YES
...

Sheet Workdays
B1: UAT | C1: 1 | D1: 2 | E1: 3 | F1: PROD | G1: 1 | H1: 2 | I1: 3 | J1: 4 | K1: 5
A2: ='Progress Tracker'!A2 -> Deployment 1 | B2: ='Progress Tracker'!#REF! -> #REF! | C2: =WEEKNUM(B2,2) -> #REF! | D2: =C2+1 -> #REF! | E2: =C2+2 -> #REF! | F2: ='Progress Tracker'!C2 -> 41718 | G2: =WEEKNUM(F2,2) -> 12 | H2: =G2+1 -> 13 | I2: =H2+1 -> 14 | J2: =I2+1 -> 15 | K2: =J2+1 -> 16
A3: ='Progress Tracker'!#REF! -> #REF! | B3: ='Progress Tracker'!#REF! -> #REF! | C3: =WEEKNUM(B3,2) -> #REF! | D3: =C3+1 -> #REF! | E3: =C3+2 -> #REF! | F3: ='Progress Tracker'!#REF! -> #REF! | G3: =WEEKNUM(F3,2) -> #REF! | H3: =G3+1 -> #REF! | I3: =H3+1 -> #REF! | J3: =I3+1 -> #REF! | K3: =J3+1 -> #REF!
A4: ='Progress Tracker'!#REF! -> #REF! | B4: ='Progress Tracker'!#REF! -> #REF! | C4: =WEEKNUM(B4,2) -> #REF! | D4: =C4+1 -> #REF! | E4: =C4+2 -> #REF! | F4: ='Progress Tracker'!#REF! -> #REF! | G4: =WEEKNUM(F4,2) -> #REF! | H4: =G4+1 -> #REF! | I4: =H4+1 -> #REF! | J4: =I4+1 -> #REF! | K4: =J4+1 -> #REF!
A5: ='Progress Tracker'!#REF! -> #REF! | B5: ='Progress Tracker'!#REF! -> #REF! | C5: =WEEKNUM(B5,2) -> #REF! | D5: =C5+1 -> #REF! | E5: =C5+2 -> #REF! | F5: ='Progress Tracker'!#REF! -> #REF! | G5: =WEEKNUM(F5,2) -> #REF! | H5: =G5+1 -> #REF! | I5: =H5+1 -> #REF! | J5: =I5+1 -> #REF! | K5: =J5+1 -> #REF!
A6: ='Progress Tracker'!#REF! -> #REF! | B6: ='Progress Tracker'!#REF! -> #REF! | C6: =WEEKNUM(B6,2) -> #REF! | D6: =C6+1 -> #REF! | E6: =C6+2 -> #REF! | F6: ='Progress Tracker'!#REF! -> #REF! | G6: =WEEKNUM(F6,2) -> #REF! | H6: =G6+1 -> #REF! | I6: =H6+1 -> #REF! | J6: =I6+1 -> #REF! | K6: =J6+1 -> #REF!
A7: ='Progress Tracker'!#REF! -> #REF! | B7: ='Progress Tracker'!#REF! -> #REF! | C7: =WEEKNUM(B7,2) -> #REF! | D7: =C7+1 -> #REF! | E7: =C7+2 -> #REF! | F7: ='Progress Tracker'!#REF! -> #REF! | G7: =WEEKNUM(F7,2) -> #REF! | H7: =G7+1 -> #REF! | I7: =H7+1 -> #REF! | J7: =I7+1 -> #REF! | K7: =J7+1 -> #REF!
A8: ='Progress Tracker'!#REF! -> #REF! | B8: ='Progress Tracker'!#REF! -> #REF! | C8: =WEEKNUM(B8,2) -> #REF! | D8: =C8+1 -> #REF! | E8: =C8+2 -> #REF! | F8: ='Progress Tracker'!#REF! -> #REF! | G8: =WEEKNUM(F8,2) -> #REF! | H8: =G8+1 -> #REF! | I8: =H8+1 -> #REF! | J8: =I8+1 -> #REF! | K8: =J8+1 -> #REF!
A9: ='Progress Tracker'!#REF! -> #REF! | B9: ='Progress Tracker'!#REF! -> #REF! | C9: =WEEKNUM(B9,2) -> #REF! | D9: =C9+1 -> #REF! | E9: =C9+2 -> #REF! | F9: ='Progress Tracker'!#REF! -> #REF! | G9: =WEEKNUM(F9,2) -> #REF! | H9: =G9+1 -> #REF! | I9: =H9+1 -> #REF! | J9: =I9+1 -> #REF! | K9: =J9+1 -> #REF!
A10: ='Progress Tracker'!#REF! -> #REF! | B10: ='Progress Tracker'!#REF! -> #REF! | C10: =WEEKNUM(B10,2) -> #REF! | D10: =C10+1 -> #REF! | E10: =C10+2 -> #REF! | F10: ='Progress Tracker'!#REF! -> #REF! | G10: =WEEKNUM(F10,2) -> #REF! | H10: =G10+1 -> #REF! | I10: =H10+1 -> #REF! | J10: =I10+1 -> #REF! | K10: =J10+1 -> #REF!
A11: ='Progress Tracker'!#REF! -> #REF! | B11: ='Progress Tracker'!#REF! -> #REF! | C11: =WEEKNUM(B11,2) -> #REF! | D11: =C11+1 -> #REF! | E11: =C11+2 -> #REF! | F11: ='Progress Tracker'!#REF! -> #REF! | G11: =WEEKNUM(F11,2) -> #REF! | H11: =G11+1 -> #REF! | I11: =H11+1 -> #REF! | J11: =I11+1 -> #REF! | K11: =J11+1 -> #REF!
A12: ='Progress Tracker'!#REF! -> #REF! | B12: ='Progress Tracker'!#REF! -> #REF! | C12: =WEEKNUM(B12,2) -> #REF! | D12: =C12+1 -> #REF! | E12: =C12+2 -> #REF! | F12: ='Progress Tracker'!#REF! -> #REF! | G12: =WEEKNUM(F12,2) -> #REF! | H12: =G12+1 -> #REF! | I12: =H12+1 -> #REF! | J12: =I12+1 -> #REF! | K12: =J12+1 -> #REF!
A13: ='Progress Tracker'!#REF! -> #REF! | B13: ='Progress Tracker'!#REF! -> #REF! | C13: =WEEKNUM(B13,2) -> #REF! | D13: =C13+1 -> #REF! | E13: =C13+2 -> #REF! | F13: ='Progress Tracker'!#REF! -> #REF! | G13: =WEEKNUM(F13,2) -> #REF! | H13: =G13+1 -> #REF! | I13: =H13+1 -> #REF! | J13: =I13+1 -> #REF! | K13: =J13+1 -> #REF!
A14: ='Progress Tracker'!#REF! -> #REF! | B14: ='Progress Tracker'!#REF! -> #REF! | C14: =WEEKNUM(B14,2) -> #REF! | D14: =C14+1 -> #REF! | E14: =C14+2 -> #REF! | F14: ='Progress Tracker'!#REF! -> #REF! | G14: =WEEKNUM(F14,2) -> #REF! | H14: =G14+1 -> #REF! | I14: =H14+1 -> #REF! | J14: =I14+1 -> #REF! | K14: =J14+1 -> #REF!
... A17: ='Progress Tracker'!#REF! -> #REF! | B17: ='Progress Tracker'!#REF! -> #REF! | C17: =WEEKNUM(B17,2) -> #REF! | D17: =C17+1 -> #REF! | E17: =C17+2 -> #REF! | F17: ='Progress Tracker'!#REF! -> #REF! | G17: =WEEKNUM(F17,2) -> #REF! | H17: =G17+1 -> #REF! | I17: =H17+1 -> #REF! | J17: =I17+1 -> #REF! | K17: =J17+1 -> #REF!
A18: ='Progress Tracker'!A29 -> 0 | B18: ='Progress Tracker'!#REF! -> #REF! | C18: =WEEKNUM(B18,2) -> #REF! | D18: =C18+1 -> #REF! | E18: =C18+2 -> #REF! | F18: ='Progress Tracker'!C29 -> 0 | G18: =WEEKNUM(F18,2) -> 1 | H18: =G18+1 -> 2 | I18: =H18+1 -> 3 | J18: =I18+1 -> 4 | K18: =J18+1 -> 5
A19: ='Progress Tracker'!A32 -> 0 | B19: ='Progress Tracker'!#REF! -> #REF! | C19: =WEEKNUM(B19,2) -> #REF! | D19: =C19+1 -> #REF! | E19: =C19+2 -> #REF! | F19: ='Progress Tracker'!C32 -> 0 | G19: =WEEKNUM(F19,2) -> 1 | H19: =G19+1 -> 2 | I19: =H19+1 -> 3 | J19: =I19+1 -> 4 | K19: =J19+1 -> 5
A20: ='Progress Tracker'!A33 -> 0 | B20: ='Progress Tracker'!#REF! -> #REF! | C20: =WEEKNUM(B20,2) -> #REF! | D20: =C20+1 -> #REF! | E20: =C20+2 -> #REF! | F20: ='Progress Tracker'!C33 -> 0 | G20: =WEEKNUM(F20,2) -> 1 | H20: =G20+1 -> 2 | I20: =H20+1 -> 3 | J20: =I20+1 -> 4 | K20: =J20+1 -> 5
A21: ='Progress Tracker'!A34 -> 0 | B21: ='Progress Tracker'!#REF! -> #REF! | C21: =WEEKNUM(B21,2) -> #REF! | D21: =C21+1 -> #REF! | E21: =C21+2 -> #REF! | F21: ='Progress Tracker'!C34 -> 0 | G21: =WEEKNUM(F21,2) -> 1 | H21: =G21+1 -> 2 | I21: =H21+1 -> 3 | J21: =I21+1 -> 4 | K21: =J21+1 -> 5
A22: ='Progress Tracker'!A36 -> 0 | B22: ='Progress Tracker'!#REF! -> #REF! | C22: =WEEKNUM(B22,2) -> #REF! | D22: =C22+1 -> #REF! | E22: =C22+2 -> #REF! | F22: ='Progress Tracker'!C36 -> 0 | G22: =WEEKNUM(F22,2) -> 1 | H22: =G22+1 -> 2 | I22: =H22+1 -> 3 | J22: =I22+1 -> 4 | K22: =J22+1 -> 5
A23: ='Progress Tracker'!A38 -> 0 | B23: ='Progress Tracker'!#REF! -> #REF! | C23: =WEEKNUM(B23,2) -> #REF! | D23: =C23+1 -> #REF! | E23: =C23+2 -> #REF! | F23: ='Progress Tracker'!C38 -> 0 | G23: =WEEKNUM(F23,2) -> 1 | H23: =G23+1 -> 2 | I23: =H23+1 -> 3 | J23: =I23+1 -> 4 | K23: =J23+1 -> 5
A24: ='Progress Tracker'!#REF! -> #REF! | B24: ='Progress Tracker'!#REF! -> #REF! | C24: =WEEKNUM(B24,2) -> #REF! | D24: =C24+1 -> #REF! | E24: =C24+2 -> #REF! | F24: ='Progress Tracker'!#REF! -> #REF! | G24: =WEEKNUM(F24,2) -> #REF! | H24: =G24+1 -> #REF! | I24: =H24+1 -> #REF! | J24: =I24+1 -> #REF! | K24: =J24+1 -> #REF!
A25: ='Progress Tracker'!#REF! -> #REF! | B25: ='Progress Tracker'!#REF! -> #REF! | C25: =WEEKNUM(B25,2) -> #REF! | D25: =C25+1 -> #REF! | E25: =C25+2 -> #REF! | F25: ='Progress Tracker'!#REF! -> #REF! | G25: =WEEKNUM(F25,2) -> #REF! | H25: =G25+1 -> #REF! | I25: =H25+1 -> #REF! | J25: =I25+1 -> #REF! | K25: =J25+1 -> #REF!
A26: ='Progress Tracker'!A40 -> 0 | B26: ='Progress Tracker'!#REF! -> #REF! | C26: =WEEKNUM(B26,2) -> #REF! | D26: =C26+1 -> #REF! | E26: =C26+2 -> #REF! | F26: ='Progress Tracker'!C40 -> 0 | G26: =WEEKNUM(F26,2) -> 1 | H26: =G26+1 -> 2 | I26: =H26+1 -> 3 | J26: =I26+1 -> 4 | K26: =J26+1 -> 5
A27: ='Progress Tracker'!A41 -> 0 | B27: ='Progress Tracker'!#REF! -> #REF! | C27: =WEEKNUM(B27,2) -> #REF! | D27: =C27+1 -> #REF! | E27: =C27+2 -> #REF! | F27: ='Progress Tracker'!C41 -> 0 | G27: =WEEKNUM(F27,2) -> 1 | H27: =G27+1 -> 2 | I27: =H27+1 -> 3 | J27: =I27+1 -> 4 | K27: =J27+1 -> 5
A28: ='Progress Tracker'!A42 -> 0 | B28: ='Progress Tracker'!#REF! -> #REF! | C28: =WEEKNUM(B28,2) -> #REF! | D28: =C28+1 -> #REF! | E28: =C28+2 -> #REF! | F28: ='Progress Tracker'!C42 -> 0 | G28: =WEEKNUM(F28,2) -> 1 | H28: =G28+1 -> 2 | I28: =H28+1 -> 3 | J28: =I28+1 -> 4 | K28: =J28+1 -> 5
A29: ='Progress Tracker'!#REF! -> #REF! | B29: ='Progress Tracker'!#REF! -> #REF! | C29: =WEEKNUM(B29,2) -> #REF! | D29: =C29+1 -> #REF! | E29: =C29+2 -> #REF! | F29: ='Progress Tracker'!#REF! -> #REF! | G29: =WEEKNUM(F29,2) -> #REF! | H29: =G29+1 -> #REF! | I29: =H29+1 -> #REF! | J29: =I29+1 -> #REF! | K29: =J29+1 -> #REF!
A30: ='Progress Tracker'!A47 -> 0 | B30: ='Progress Tracker'!#REF! -> #REF! | C30: =WEEKNUM(B30,2) -> #REF! | D30: =C30+1 -> #REF! | E30: =C30+2 -> #REF! | F30: ='Progress Tracker'!C47 -> 0 | G30: =WEEKNUM(F30,2) -> 1 | H30: =G30+1 -> 2 | I30: =H30+1 -> 3 | J30: =I30+1 -> 4 | K30: =J30+1 -> 5
A31: ='Progress Tracker'!#REF! -> #REF! | B31: ='Progress Tracker'!#REF! -> #REF! | C31: =WEEKNUM(B31,2) -> #REF! | D31: =C31+1 -> #REF! | E31: =C31+2 -> #REF! | F31: ='Progress Tracker'!#REF! -> #REF! | G31: =WEEKNUM(F31,2) -> #REF! | H31: =G31+1 -> #REF! | I31: =H31+1 -> #REF! | J31: =I31+1 -> #REF! | K31: =J31+1 -> #REF!
A32: ='Progress Tracker'!A51 -> 0 | B32: ='Progress Tracker'!#REF! -> #REF! | C32: =WEEKNUM(B32,2) -> #REF! | D32: =C32+1 -> #REF! | E32: =C32+2 -> #REF! | F32: ='Progress Tracker'!C51 -> 0 | G32: =WEEKNUM(F32,2) -> 1 | H32: =G32+1 -> 2 | I32: =H32+1 -> 3 | J32: =I32+1 -> 4 | K32: =J32+1 -> 5
A33: ='Progress Tracker'!A53 -> 0 | B33: ='Progress Tracker'!#REF! -> #REF! | C33: =WEEKNUM(B33,2) -> #REF! | D33: =C33+1 -> #REF! | E33: =C33+2 -> #REF! | F33: ='Progress Tracker'!C53 -> 0 | G33: =WEEKNUM(F33,2) -> 1 | H33: =G33+1 -> 2 | I33: =H33+1 -> 3 | J33: =I33+1 -> 4 | K33: =J33+1 -> 5
A34: ='Progress Tracker'!#REF! -> #REF! | B34: ='Progress Tracker'!#REF! -> #REF! | C34: =WEEKNUM(B34,2) -> #REF! | D34: =C34+1 -> #REF! | E34: =C34+2 -> #REF! | F34: ='Progress Tracker'!#REF! -> #REF! | G34: =WEEKNUM(F34,2) -> #REF! | H34: =G34+1 -> #REF! | I34: =H34+1 -> #REF! | J34: =I34+1 -> #REF! | K34: =J34+1 -> #REF!
A35: ='Progress Tracker'!A54 -> 0 | B35: ='Progress Tracker'!#REF! -> #REF! | C35: =WEEKNUM(B35,2) -> #REF! | D35: =C35+1 -> #REF! | E35: =C35+2 -> #REF! | F35: ='Progress Tracker'!C54 -> 0 | G35: =WEEKNUM(F35,2) -> 1 | H35: =G35+1 -> 2 | I35: =H35+1 -> 3 | J35: =I35+1 -> 4 | K35: =J35+1 -> 5
A36: ='Progress Tracker'!#REF! -> #REF! | B36: ='Progress Tracker'!#REF! -> #REF! | C36: =WEEKNUM(B36,2) -> #REF! | D36: =C36+1 -> #REF! | E36: =C36+2 -> #REF! | F36: ='Progress Tracker'!#REF! -> #REF! | G36: =WEEKNUM(F36,2) -> #REF! | H36: =G36+1 -> #REF! | I36: =H36+1 -> #REF! | J36: =I36+1 -> #REF! | K36: =J36+1 -> #REF!
A37: ='Progress Tracker'!#REF! -> #REF! | B37: ='Progress Tracker'!#REF! -> #REF! | C37: =WEEKNUM(B37,2) -> #REF! | D37: =C37+1 -> #REF! | E37: =C37+2 -> #REF! | F37: ='Progress Tracker'!#REF! -> #REF! | G37: =WEEKNUM(F37,2) -> #REF! | H37: =G37+1 -> #REF! | I37: =H37+1 -> #REF! | J37: =I37+1 -> #REF! | K37: =J37+1 -> #REF!
A38: ='Progress Tracker'!A55 -> 0 | B38: ='Progress Tracker'!#REF! -> #REF! | C38: =WEEKNUM(B38,2) -> #REF! | D38: =C38+1 -> #REF! | E38: =C38+2 -> #REF! | F38: ='Progress Tracker'!C55 -> 0 | G38: =WEEKNUM(F38,2) -> 1 | H38: =G38+1 -> 2 | I38: =H38+1 -> 3 | J38: =I38+1 -> 4 | K38: =J38+1 -> 5
A39: ='Progress Tracker'!#REF! -> #REF! | B39: ='Progress Tracker'!#REF! -> #REF! | C39: =WEEKNUM(B39,2) -> #REF! | D39: =C39+1 -> #REF! | E39: =C39+2 -> #REF! | F39: ='Progress Tracker'!#REF! -> #REF! | G39: =WEEKNUM(F39,2) -> #REF! | H39: =G39+1 -> #REF! | I39: =H39+1 -> #REF! | J39: =I39+1 -> #REF! | K39: =J39+1 -> #REF!
A40: ='Progress Tracker'!A56 -> 0 | B40: ='Progress Tracker'!#REF! -> #REF! | C40: =WEEKNUM(B40,2) -> #REF! | D40: =C40+1 -> #REF! | E40: =C40+2 -> #REF! | F40: ='Progress Tracker'!C56 -> 0 | G40: =WEEKNUM(F40,2) -> 1 | H40: =G40+1 -> 2 | I40: =H40+1 -> 3 | J40: =I40+1 -> 4 | K40: =J40+1 -> 5
A41: ='Progress Tracker'!A57 -> 0 | B41: ='Progress Tracker'!#REF! -> #REF! | C41: =WEEKNUM(B41,2) -> #REF! | D41: =C41+1 -> #REF! | E41: =C41+2 -> #REF! | F41: ='Progress Tracker'!C57 -> 0 | G41: =WEEKNUM(F41,2) -> 1 | H41: =G41+1 -> 2 | I41: =H41+1 -> 3 | J41: =I41+1 -> 4 | K41: =J41+1 -> 5
A42: ='Progress Tracker'!A58 -> 0 | B42: ='Progress Tracker'!#REF! -> #REF! | C42: =WEEKNUM(B42,2) -> #REF! | D42: =C42+1 -> #REF! | E42: =C42+2 -> #REF! | F42: ='Progress Tracker'!C58 -> 0 | G42: =WEEKNUM(F42,2) -> 1 | H42: =G42+1 -> 2 | I42: =H42+1 -> 3 | J42: =I42+1 -> 4 | K42: =J42+1 -> 5
...

Sheet Progress Tracker
A1: Name | B1: Date of pre-prod deployment | C1: Date of Prod deployment | D1: Date of Agent Install for Non-PROD | E1: Next Action | F1: Notes
A2: Deployment 1 | B2: 41645 | C2: 41718
A3: Deployment 2 | B3: 41654 | C3: 41718
A4: Deployment 3 | B4: 41657 | C4: 41690
A5: Deployment 4 | B5: 41657 | C5: 41690 | E5: Request Change tickets to be raised by TSI. Schedule is on the handover notes.
A6: Deployment 5 | B6: 41684 | C6: 41749 | E6: Request Change tickets to be raised by TSI. Schedule is on the handover notes.
A7: Deployment 6 | B7: 41682 | C7: 41744 | E7: Request Change tickets to be raised by TSI. Schedule is on the handover notes.
A8: Deployment 7 | B8: 41677 | C8: 41730
A9: Deployment 8 | B9: 41643 | C9: 41736
A10: Deployment 9 | B10: 41643 | C10: 41759
A11: Deployment 10 | B11: 41702 | C11: 41749
A12: Deployment 11 | B12: 41713 | C12: 41749
A13: Deployment 12 | B13: 41713 | C13: 41749
A14: Deployment 13 | B14: 41679 | C14: 41760
A15: Deployment 14 | B15: 2/1222014 | C15: 41767
A16: Deployment 15 | B16: 41695 | C16: 41775
A17: Deployment 16 | B17: 41695 | C17: 41779
A18: Deployment 17 | B18: 41658 | C18: 41690
A19: Deployment 18 | B19: 41657 | C19: 41681
A20: Deployment 19 | B20: 41690 | C20: 41759
A21: Deployment 20 | B21: 41676 | C21: 41718
A22: Deployment 21 | B22: 41677 | C22: 41730
A23: Deployment 22 | B23: 41678 | C23: 41742
E26: Ask TSI to provide print screen with Evidence of agent on-boarding.
E41: The server is in support.
E45: Testing complete
E46: Chase business for a change window for production
E56: Awaiting OB form from the business.
E57: KB to ask T-Systems to run completion reports for this application
E60: Make sure that by Friday we open the
E61: The server is in support since 28 August.
E64: Waiting for BO form from Mark Nye
E65: Waiting for BO form from Mark Nye
E75: KB to check if this is the same thing as shell people business warehouse?
E88: KB to speak to Humayun for planning dates of installation. Discussion to take place in August.
... E121: Schedule UAT test

Sheet Validations
A1: YES
A2: NO

Sheet Sheet1
A1: Application Name | B1: ID | C1: BU
A2: ArcSight | B2: 167 | C2: ITSO
A3: ArcSight | B3: 167 | C3: ITSO
A4: ArcSight | B4: 167 | C4: ITSO
A5: BOS (Red Prairie Retail - Head Office) | B5: 147 | C5: DS
A6: BOS (Red Prairie Retail - Head Office) | B6: 147 | C6: DS
A7: BOS (Red Prairie Retail - Head Office) | B7: 147 | C7: DS
A8: BOS (Red Prairie Retail - Head Office) | B8: 147 | C8: DS
A9: BSI Tax Factory | B9: 81 | C9: GF
A10: Collective (Archer) | B10: 82 | C10: GF
A11: Collective (Archer) | B11: 82 | C11: GF
A12: Collective (Archer) | B12: 82 | C12: GF
A13: Contract Management System - Upside | B13: 176 | C13: GF
... A21: EDI Hub/ E Banking Hub | B21: 83 | C21: GF
A22: eHaulier | C22: DS
A23: eMarketplace Suite | B23: 127 | C23: TR
A24: eMarketplace Suite | B24: 127 | C24: TR
A25: Endur Oil | B25: 128 | C25: TR
A26: Energy Components (ALTAMIRA) | B26: 97 | C26: UI
A27: Energy Components (EC-SEIC) | B27: 98 | C27: UI
A28: Energy Components (GABON) | B28: 99 | C28: UI
A29: Energy Components (KASHAGAN) | B29: 100 | C29: UI
A30: Energy Components (MAJNOON) | B30: 101 | C30: UI
A31: Energy Components (QSGTL) | B31: 102 | C31: UI
A32: Energy Components (SPD) | B32: 103 | C32: UI
A33: Energy Components (SPEX) | B33: 104 | C33: UI
A34: Energy Components (STOS90) | B34: 105 | C34: UI
... A41: Global Production Dashboard | B41: 182 | C41: UI
A42: GLS Toolset | C42: PT
A43: GLS Toolset | C43: PT
A44: GLS Toolset | C44: PT
A45: Identity Management Service (IMS) | B45: 86 | C45: GF
A46: Identity Management Service (IMS) | B46: 86 | C46: GF
A47: Identity Provider Service (IDP) | B47: 87 | C47: GF
A48: Identity Provider Service (IDP) | B48: 87 | C48: GF
A49: KSTAT | B49: 180 | C49: TR
A50: MS SQL Server Integration Services (SSIS) | B50: 142 | C50: DS
A51: MS SQL Server Integration Services (SSIS) | B51: 142 | C51: DS
A52: ODW | B52: 129 | C52: TR
A53: PRISM | C53: UA
...

Sheet Sheet2
A1: AGRisk/Quantum | B1: 88
A2: AGRisk/Quantum | B2: 88
A3: AGRisk/Quantum | B3: 88
A4: AGRisk/Quantum | B4: 88
A5: ArcSight | B5: 167
A6: ArcSight | B6: 167
A7: ArcSight | B7: 167
A8: BOS (Red Prairie Retail - Head Office) | B8: 147
A9: BSI Tax Factory | B9: 81
A10: Collective (Archer) | B10: 82
A11: Collective (Archer) | B11: 82
A12: Collective (Archer) | B12: 82
... A43: Financial Closing Cockpit (FCC) | B43: 85
A44: Global ICEBOX (P2 instances) | B44: SHELL
A45: Global ICEBOX (P4 instances) | B45: SHELL
A46: Global Production Dashboard | B46: 182
A47: Global Production Dashboard | B47: 182
A48: GLS Toolset | B48: 94
A49: GLS Toolset | B49: 94
A50: GLS Toolset | B50: 94
A51: GLS Toolset | B51: 94
A52: GLS Toolset | B52: 94
A53: Identity Management Service (IMS) | B53: 86
A54: Identity Management Service (IMS) | B54: 86
A55: Identity Management Service (IMS) | B55: 86
A56: Identity Provider Service (IDP) | B56: 87
A57: Identity Provider Service (IDP) | B57: 87
... A62: MC Petrolook | B62: 174
A63: MC Sharepoint | B63: SHELL
A64: MC Sigma | B64: 173
A65: MC Sigma | B65: 173
A66: ODW | B66: 129
A67: ODW | B67: 129
A68: ODW | B68: 129
A69: ODW | B69: 129
A70: Pearl SAMCO including Batch processes | B70: 133
A71: ProWatch (new servers) | B71: SHELL
A72: SABRIX | B72: 114
A73: SAP BUSINESS WAREHOUSE | B73: SHELL
A74: SAP GRC (PG4) | B74: 186
...

Sheet Sheet5
A1: Awaiting OB Form
A2: Testing Stage
A3: Production Stage
A4: Acceptance Stage
A5: Completed

Sheet Visual
A1: Project | D1: JAN | I1: FEB | M1: MAR | R1: APR | V1: MAY | Z1: JUN
D2: 1 | E2: 2 | F2: 3 | G2: 4 | H2: 5 | I2: 6 | J2: 7 | K2: 8 | L2: 9 | M2: 10 | N2: 11 | O2: 12 | P2: 13 | Q2: 14 | R2: 15 | S2: 16 | T2: 17 | U2: 18 | V2: 19 | W2: 20 | X2: 21 | Y2: 22 | Z2: 23 | AA2: 24 | AB2: 25 | AC2: 26 | AD2: 27
B3: Deployment 1 | D3: =IF(NOT(ISNA(MATCH(D$2,Sys!$C2:$E2,0))),"U",IF(NOT(ISNA(MATCH(D$2,Sys!$G2:$K2,0))),"P",IF(C3="P","C",""))) | E3: =IF(NOT(ISNA(MATCH(E$2,Sys!$C2:$E2,0))),"U",IF(NOT(ISNA(MATCH(E$2,Sys!$G2:$K2,0))),"P",IF(D3="P","C",""))) -> U | F3: =IF(NOT(ISNA(MATCH(F$2,Sys!$C2:$E2,0))),"U",IF(NOT(ISNA(MATCH(F$2,Sys!$G2:$K2,0))),"P",IF(E3="P","C",""))) -> U | G3: =IF(NOT(ISNA(MATCH(G$2,Sys!$C2:$E2,0))),"U",IF(NOT(ISNA(MATCH(G$2,Sys!$G2:$K2,0))),"P",IF(F3="P","C",""))) -> U | H3: =IF(NOT(ISNA(MATCH(H$2,Sys!$C2:$E2,0))),"U",IF(NOT(ISNA(MATCH(H$2,Sys!$G2:$K2,0))),"P",IF(G3="P","C",""))) | I3: =IF(NOT(ISNA(MATCH(I$2,Sys!$C2:$E2,0))),"U",IF(NOT(ISNA(MATCH(I$2,Sys!$G2:$K2,0))),"P",IF(H3="P","C",""))) | J3: =IF(NOT(ISNA(MATCH(J$2,Sys!$C2:$E2,0))),"U",IF(NOT(ISNA(MATCH(J$2,Sys!$G2:$K2,0))),"P",IF(I3="P","C",""))) | K3: =IF(NOT(ISNA(MATCH(K$2,Sys!$C2:$E2,0))),"U",IF(NOT(ISNA(MATCH(K$2,Sys!$G2:$K2,0))),"P",IF(J3="P","C",""))) | ... AD3: =IF(NOT(ISNA(MATCH(AD$2,Sys!$C2:$E2,0))),"U",IF(NOT(ISNA(MATCH(AD$2,Sys!$G2:$K2,0))),"P",IF(AC3="P","C","")))
B4: Deployment 2 | D4: =IF(NOT(ISNA(MATCH(D$2,Sys!$C3:$E3,0))),"U",IF(NOT(ISNA(MATCH(D$2,Sys!$G3:$K3,0))),"P",IF(C4="P","C",""))) | E4: =IF(NOT(ISNA(MATCH(E$2,Sys!$C3:$E3,0))),"U",IF(NOT(ISNA(MATCH(E$2,Sys!$G3:$K3,0))),"P",IF(D4="P","C",""))) | F4: =IF(NOT(ISNA(MATCH(F$2,Sys!$C3:$E3,0))),"U",IF(NOT(ISNA(MATCH(F$2,Sys!$G3:$K3,0))),"P",IF(E4="P","C",""))) -> U | G4: =IF(NOT(ISNA(MATCH(G$2,Sys!$C3:$E3,0))),"U",IF(NOT(ISNA(MATCH(G$2,Sys!$G3:$K3,0))),"P",IF(F4="P","C",""))) -> U | H4: =IF(NOT(ISNA(MATCH(H$2,Sys!$C3:$E3,0))),"U",IF(NOT(ISNA(MATCH(H$2,Sys!$G3:$K3,0))),"P",IF(G4="P","C",""))) -> U | I4: =IF(NOT(ISNA(MATCH(I$2,Sys!$C3:$E3,0))),"U",IF(NOT(ISNA(MATCH(I$2,Sys!$G3:$K3,0))),"P",IF(H4="P","C",""))) | J4: =IF(NOT(ISNA(MATCH(J$2,Sys!$C3:$E3,0))),"U",IF(NOT(ISNA(MATCH(J$2,Sys!$G3:$K3,0))),"P",IF(I4="P","C",""))) | K4: =IF(NOT(ISNA(MATCH(K$2,Sys!$C3:$E3,0))),"U",IF(NOT(ISNA(MATCH(K$2,Sys!$G3:$K3,0))),"P",IF(J4="P","C",""))) | ... AD4: =IF(NOT(ISNA(MATCH(AD$2,Sys!$C3:$E3,0))),"U",IF(NOT(ISNA(MATCH(AD$2,Sys!$G3:$K3,0))),"P",IF(AC4="P","C","")))
B5: Deployment 3 | D5: =IF(NOT(ISNA(MATCH(D$2,Sys!$C4:$E4,0))),"U",IF(NOT(ISNA(MATCH(D$2,Sys!$G4:$K4,0))),"P",IF(C5="P","C",""))) | E5: =IF(NOT(ISNA(MATCH(E$2,Sys!$C4:$E4,0))),"U",IF(NOT(ISNA(MATCH(E$2,Sys!$G4:$K4,0))),"P",IF(D5="P","C",""))) | F5: =IF(NOT(ISNA(MATCH(F$2,Sys!$C4:$E4,0))),"U",IF(NOT(ISNA(MATCH(F$2,Sys!$G4:$K4,0))),"P",IF(E5="P","C",""))) -> U | G5: =IF(NOT(ISNA(MATCH(G$2,Sys!$C4:$E4,0))),"U",IF(NOT(ISNA(MATCH(G$2,Sys!$G4:$K4,0))),"P",IF(F5="P","C",""))) -> U | H5: =IF(NOT(ISNA(MATCH(H$2,Sys!$C4:$E4,0))),"U",IF(NOT(ISNA(MATCH(H$2,Sys!$G4:$K4,0))),"P",IF(G5="P","C",""))) -> U | I5: =IF(NOT(ISNA(MATCH(I$2,Sys!$C4:$E4,0))),"U",IF(NOT(ISNA(MATCH(I$2,Sys!$G4:$K4,0))),"P",IF(H5="P","C",""))) | J5: =IF(NOT(ISNA(MATCH(J$2,Sys!$C4:$E4,0))),"U",IF(NOT(ISNA(MATCH(J$2,Sys!$G4:$K4,0))),"P",IF(I5="P","C",""))) | K5: =IF(NOT(ISNA(MATCH(K$2,Sys!$C4:$E4,0))),"U",IF(NOT(ISNA(MATCH(K$2,Sys!$G4:$K4,0))),"P",IF(J5="P","C",""))) -> P | ... AD5: =IF(NOT(ISNA(MATCH(AD$2,Sys!$C4:$E4,0))),"U",IF(NOT(ISNA(MATCH(AD$2,Sys!$G4:$K4,0))),"P",IF(AC5="P","C","")))
B6: Deployment 4 | D6: =IF(NOT(ISNA(MATCH(D$2,Sys!$C5:$E5,0))),"U",IF(NOT(ISNA(MATCH(D$2,Sys!$G5:$K5,0))),"P",IF(C6="P","C",""))) | E6: =IF(NOT(ISNA(MATCH(E$2,Sys!$C5:$E5,0))),"U",IF(NOT(ISNA(MATCH(E$2,Sys!$G5:$K5,0))),"P",IF(D6="P","C",""))) | F6: =IF(NOT(ISNA(MATCH(F$2,Sys!$C5:$E5,0))),"U",IF(NOT(ISNA(MATCH(F$2,Sys!$G5:$K5,0))),"P",IF(E6="P","C",""))) -> U | G6: =IF(NOT(ISNA(MATCH(G$2,Sys!$C5:$E5,0))),"U",IF(NOT(ISNA(MATCH(G$2,Sys!$G5:$K5,0))),"P",IF(F6="P","C",""))) -> U | H6: =IF(NOT(ISNA(MATCH(H$2,Sys!$C5:$E5,0))),"U",IF(NOT(ISNA(MATCH(H$2,Sys!$G5:$K5,0))),"P",IF(G6="P","C",""))) -> U | I6: =IF(NOT(ISNA(MATCH(I$2,Sys!$C5:$E5,0))),"U",IF(NOT(ISNA(MATCH(I$2,Sys!$G5:$K5,0))),"P",IF(H6="P","C",""))) | J6: =IF(NOT(ISNA(MATCH(J$2,Sys!$C5:$E5,0))),"U",IF(NOT(ISNA(MATCH(J$2,Sys!$G5:$K5,0))),"P",IF(I6="P","C",""))) | K6: =IF(NOT(ISNA(MATCH(K$2,Sys!$C5:$E5,0))),"U",IF(NOT(ISNA(MATCH(K$2,Sys!$G5:$K5,0))),"P",IF(J6="P","C",""))) -> P | ... AD6: =IF(NOT(ISNA(MATCH(AD$2,Sys!$C5:$E5,0))),"U",IF(NOT(ISNA(MATCH(AD$2,Sys!$G5:$K5,0))),"P",IF(AC6="P","C","")))
B7: Deployment 5 | D7: =IF(NOT(ISNA(MATCH(D$2,Sys!$C6:$E6,0))),"U",IF(NOT(ISNA(MATCH(D$2,Sys!$G6:$K6,0))),"P",IF(C7="P","C",""))) | E7: =IF(NOT(ISNA(MATCH(E$2,Sys!$C6:$E6,0))),"U",IF(NOT(ISNA(MATCH(E$2,Sys!$G6:$K6,0))),"P",IF(D7="P","C",""))) | F7: =IF(NOT(ISNA(MATCH(F$2,Sys!$C6:$E6,0))),"U",IF(NOT(ISNA(MATCH(F$2,Sys!$G6:$K6,0))),"P",IF(E7="P","C",""))) | G7: =IF(NOT(ISNA(MATCH(G$2,Sys!$C6:$E6,0))),"U",IF(NOT(ISNA(MATCH(G$2,Sys!$G6:$K6,0))),"P",IF(F7="P","C",""))) | H7: =IF(NOT(ISNA(MATCH(H$2,Sys!$C6:$E6,0))),"U",IF(NOT(ISNA(MATCH(H$2,Sys!$G6:$K6,0))),"P",IF(G7="P","C",""))) | I7: =IF(NOT(ISNA(MATCH(I$2,Sys!$C6:$E6,0))),"U",IF(NOT(ISNA(MATCH(I$2,Sys!$G6:$K6,0))),"P",IF(H7="P","C",""))) | J7: =IF(NOT(ISNA(MATCH(J$2,Sys!$C6:$E6,0))),"U",IF(NOT(ISNA(MATCH(J$2,Sys!$G6:$K6,0))),"P",IF(I7="P","C",""))) -> U | K7: =IF(NOT(ISNA(MATCH(K$2,Sys!$C6:$E6,0))),"U",IF(NOT(ISNA(MATCH(K$2,Sys!$G6:$K6,0))),"P",IF(J7="P","C",""))) -> U | ... AD7: =IF(NOT(ISNA(MATCH(AD$2,Sys!$C6:$E6,0))),"U",IF(NOT(ISNA(MATCH(AD$2,Sys!$G6:$K6,0))),"P",IF(AC7="P","C","")))
B8: Deployment 6 | D8: =IF(NOT(ISNA(MATCH(D$2,Sys!$C7:$E7,0))),"U",IF(NOT(ISNA(MATCH(D$2,Sys!$G7:$K7,0))),"P",IF(C8="P","C",""))) | E8: =IF(NOT(ISNA(MATCH(E$2,Sys!$C7:$E7,0))),"U",IF(NOT(ISNA(MATCH(E$2,Sys!$G7:$K7,0))),"P",IF(D8="P","C",""))) | F8: =IF(NOT(ISNA(MATCH(F$2,Sys!$C7:$E7,0))),"U",IF(NOT(ISNA(MATCH(F$2,Sys!$G7:$K7,0))),"P",IF(E8="P","C",""))) | G8: =IF(NOT(ISNA(MATCH(G$2,Sys!$C7:$E7,0))),"U",IF(NOT(ISNA(MATCH(G$2,Sys!$G7:$K7,0))),"P",IF(F8="P","C",""))) | H8: =IF(NOT(ISNA(MATCH(H$2,Sys!$C7:$E7,0))),"U",IF(NOT(ISNA(MATCH(H$2,Sys!$G7:$K7,0))),"P",IF(G8="P","C",""))) | I8: =IF(NOT(ISNA(MATCH(I$2,Sys!$C7:$E7,0))),"U",IF(NOT(ISNA(MATCH(I$2,Sys!$G7:$K7,0))),"P",IF(H8="P","C",""))) | J8: =IF(NOT(ISNA(MATCH(J$2,Sys!$C7:$E7,0))),"U",IF(NOT(ISNA(MATCH(J$2,Sys!$G7:$K7,0))),"P",IF(I8="P","C",""))) -> U | K8: =IF(NOT(ISNA(MATCH(K$2,Sys!$C7:$E7,0))),"U",IF(NOT(ISNA(MATCH(K$2,Sys!$G7:$K7,0))),"P",IF(J8="P","C",""))) -> U | ... AD8: =IF(NOT(ISNA(MATCH(AD$2,Sys!$C7:$E7,0))),"U",IF(NOT(ISNA(MATCH(AD$2,Sys!$G7:$K7,0))),"P",IF(AC8="P","C","")))
B9: Deployment 7 | D9: =IF(NOT(ISNA(MATCH(D$2,Sys!$C8:$E8,0))),"U",IF(NOT(ISNA(MATCH(D$2,Sys!$G8:$K8,0))),"P",IF(C9="P","C",""))) | E9: =IF(NOT(ISNA(MATCH(E$2,Sys!$C8:$E8,0))),"U",IF(NOT(ISNA(MATCH(E$2,Sys!$G8:$K8,0))),"P",IF(D9="P","C",""))) | F9: =IF(NOT(ISNA(MATCH(F$2,Sys!$C8:$E8,0))),"U",IF(NOT(ISNA(MATCH(F$2,Sys!$G8:$K8,0))),"P",IF(E9="P","C",""))) | G9: =IF(NOT(ISNA(MATCH(G$2,Sys!$C8:$E8,0))),"U",IF(NOT(ISNA(MATCH(G$2,Sys!$G8:$K8,0))),"P",IF(F9="P","C",""))) | H9: =IF(NOT(ISNA(MATCH(H$2,Sys!$C8:$E8,0))),"U",IF(NOT(ISNA(MATCH(H$2,Sys!$G8:$K8,0))),"P",IF(G9="P","C",""))) | I9: =IF(NOT(ISNA(MATCH(I$2,Sys!$C8:$E8,0))),"U",IF(NOT(ISNA(MATCH(I$2,Sys!$G8:$K8,0))),"P",IF(H9="P","C",""))) -> U | J9: =IF(NOT(ISNA(MATCH(J$2,Sys!$C8:$E8,0))),"U",IF(NOT(ISNA(MATCH(J$2,Sys!$G8:$K8,0))),"P",IF(I9="P","C",""))) -> U | K9: =IF(NOT(ISNA(MATCH(K$2,Sys!$C8:$E8,0))),"U",IF(NOT(ISNA(MATCH(K$2,Sys!$G8:$K8,0))),"P",IF(J9="P","C",""))) -> U | ... AD9: =IF(NOT(ISNA(MATCH(AD$2,Sys!$C8:$E8,0))),"U",IF(NOT(ISNA(MATCH(AD$2,Sys!$G8:$K8,0))),"P",IF(AC9="P","C","")))
B10: Deployment 8 | D10: =IF(NOT(ISNA(MATCH(D$2,Sys!$C9:$E9,0))),"U",IF(NOT(ISNA(MATCH(D$2,Sys!$G9:$K9,0))),"P",IF(C10="P","C",""))) -> U | E10: =IF(NOT(ISNA(MATCH(E$2,Sys!$C9:$E9,0))),"U",IF(NOT(ISNA(MATCH(E$2,Sys!$G9:$K9,0))),"P",IF(D10="P","C",""))) -> U | F10: =IF(NOT(ISNA(MATCH(F$2,Sys!$C9:$E9,0))),"U",IF(NOT(ISNA(MATCH(F$2,Sys!$G9:$K9,0))),"P",IF(E10="P","C",""))) -> U | G10: =IF(NOT(ISNA(MATCH(G$2,Sys!$C9:$E9,0))),"U",IF(NOT(ISNA(MATCH(G$2,Sys!$G9:$K9,0))),"P",IF(F10="P","C",""))) | H10: =IF(NOT(ISNA(MATCH(H$2,Sys!$C9:$E9,0))),"U",IF(NOT(ISNA(MATCH(H$2,Sys!$G9:$K9,0))),"P",IF(G10="P","C",""))) | I10: =IF(NOT(ISNA(MATCH(I$2,Sys!$C9:$E9,0))),"U",IF(NOT(ISNA(MATCH(I$2,Sys!$G9:$K9,0))),"P",IF(H10="P","C",""))) | J10: =IF(NOT(ISNA(MATCH(J$2,Sys!$C9:$E9,0))),"U",IF(NOT(ISNA(MATCH(J$2,Sys!$G9:$K9,0))),"P",IF(I10="P","C",""))) | K10: =IF(NOT(ISNA(MATCH(K$2,Sys!$C9:$E9,0))),"U",IF(NOT(ISNA(MATCH(K$2,Sys!$G9:$K9,0))),"P",IF(J10="P","C",""))) | ... AD10: =IF(NOT(ISNA(MATCH(AD$2,Sys!$C9:$E9,0))),"U",IF(NOT(ISNA(MATCH(AD$2,Sys!$G9:$K9,0))),"P",IF(AC10="P","C","")))
B11: Deployment 9 | D11: =IF(NOT(ISNA(MATCH(D$2,Sys!$C10:$E10,0))),"U",IF(NOT(ISNA(MATCH(D$2,Sys!$G10:$K10,0))),"P",IF(C11="P","C",""))) -> U | E11: =IF(NOT(ISNA(MATCH(E$2,Sys!$C10:$E10,0))),"U",IF(NOT(ISNA(MATCH(E$2,Sys!$G10:$K10,0))),"P",IF(D11="P","C",""))) -> U | F11: =IF(NOT(ISNA(MATCH(F$2,Sys!$C10:$E10,0))),"U",IF(NOT(ISNA(MATCH(F$2,Sys!$G10:$K10,0))),"P",IF(E11="P","C",""))) -> U | G11: =IF(NOT(ISNA(MATCH(G$2,Sys!$C10:$E10,0))),"U",IF(NOT(ISNA(MATCH(G$2,Sys!$G10:$K10,0))),"P",IF(F11="P","C",""))) | H11: =IF(NOT(ISNA(MATCH(H$2,Sys!$C10:$E10,0))),"U",IF(NOT(ISNA(MATCH(H$2,Sys!$G10:$K10,0))),"P",IF(G11="P","C",""))) | I11: =IF(NOT(ISNA(MATCH(I$2,Sys!$C10:$E10,0))),"U",IF(NOT(ISNA(MATCH(I$2,Sys!$G10:$K10,0))),"P",IF(H11="P","C",""))) | J11: =IF(NOT(ISNA(MATCH(J$2,Sys!$C10:$E10,0))),"U",IF(NOT(ISNA(MATCH(J$2,Sys!$G10:$K10,0))),"P",IF(I11="P","C",""))) | K11: =IF(NOT(ISNA(MATCH(K$2,Sys!$C10:$E10,0))),"U",IF(NOT(ISNA(MATCH(K$2,Sys!$G10:$K10,0))),"P",IF(J11="P","C",""))) | ... AD11: =IF(NOT(ISNA(MATCH(AD$2,Sys!$C10:$E10,0))),"U",IF(NOT(ISNA(MATCH(AD$2,Sys!$G10:$K10,0))),"P",IF(AC11="P","C","")))
B12: Deployment 10 | D12: =IF(NOT(ISNA(MATCH(D$2,Sys!$C11:$E11,0))),"U",IF(NOT(ISNA(MATCH(D$2,Sys!$G11:$K11,0))),"P",IF(C12="P","C",""))) | E12: =IF(NOT(ISNA(MATCH(E$2,Sys!$C11:$E11,0))),"U",IF(NOT(ISNA(MATCH(E$2,Sys!$G11:$K11,0))),"P",IF(D12="P","C",""))) | F12: =IF(NOT(ISNA(MATCH(F$2,Sys!$C11:$E11,0))),"U",IF(NOT(ISNA(MATCH(F$2,Sys!$G11:$K11,0))),"P",IF(E12="P","C",""))) | G12: =IF(NOT(ISNA(MATCH(G$2,Sys!$C11:$E11,0))),"U",IF(NOT(ISNA(MATCH(G$2,Sys!$G11:$K11,0))),"P",IF(F12="P","C",""))) | H12: =IF(NOT(ISNA(MATCH(H$2,Sys!$C11:$E11,0))),"U",IF(NOT(ISNA(MATCH(H$2,Sys!$G11:$K11,0))),"P",IF(G12="P","C",""))) | I12: =IF(NOT(ISNA(MATCH(I$2,Sys!$C11:$E11,0))),"U",IF(NOT(ISNA(MATCH(I$2,Sys!$G11:$K11,0))),"P",IF(H12="P","C",""))) | J12: =IF(NOT(ISNA(MATCH(J$2,Sys!$C11:$E11,0))),"U",IF(NOT(ISNA(MATCH(J$2,Sys!$G11:$K11,0))),"P",IF(I12="P","C",""))) | K12: =IF(NOT(ISNA(MATCH(K$2,Sys!$C11:$E11,0))),"U",IF(NOT(ISNA(MATCH(K$2,Sys!$G11:$K11,0))),"P",IF(J12="P","C",""))) | ... AD12: =IF(NOT(ISNA(MATCH(AD$2,Sys!$C11:$E11,0))),"U",IF(NOT(ISNA(MATCH(AD$2,Sys!$G11:$K11,0))),"P",IF(AC12="P","C","")))
B13: Deployment 11 | D13: =IF(NOT(ISNA(MATCH(D$2,Sys!$C12:$E12,0))),"U",IF(NOT(ISNA(MATCH(D$2,Sys!$G12:$K12,0))),"P",IF(C13="P","C",""))) | E13: =IF(NOT(ISNA(MATCH(E$2,Sys!$C12:$E12,0))),"U",IF(NOT(ISNA(MATCH(E$2,Sys!$G12:$K12,0))),"P",IF(D13="P","C",""))) | F13: =IF(NOT(ISNA(MATCH(F$2,Sys!$C12:$E12,0))),"U",IF(NOT(ISNA(MATCH(F$2,Sys!$G12:$K12,0))),"P",IF(E13="P","C",""))) | G13: =IF(NOT(ISNA(MATCH(G$2,Sys!$C12:$E12,0))),"U",IF(NOT(ISNA(MATCH(G$2,Sys!$G12:$K12,0))),"P",IF(F13="P","C",""))) | H13: =IF(NOT(ISNA(MATCH(H$2,Sys!$C12:$E12,0))),"U",IF(NOT(ISNA(MATCH(H$2,Sys!$G12:$K12,0))),"P",IF(G13="P","C",""))) | I13: =IF(NOT(ISNA(MATCH(I$2,Sys!$C12:$E12,0))),"U",IF(NOT(ISNA(MATCH(I$2,Sys!$G12:$K12,0))),"P",IF(H13="P","C",""))) | J13: =IF(NOT(ISNA(MATCH(J$2,Sys!$C12:$E12,0))),"U",IF(NOT(ISNA(MATCH(J$2,Sys!$G12:$K12,0))),"P",IF(I13="P","C",""))) | K13: =IF(NOT(ISNA(MATCH(K$2,Sys!$C12:$E12,0))),"U",IF(NOT(ISNA(MATCH(K$2,Sys!$G12:$K12,0))),"P",IF(J13="P","C",""))) | ... AD13: =IF(NOT(ISNA(MATCH(AD$2,Sys!$C12:$E12,0))),"U",IF(NOT(ISNA(MATCH(AD$2,Sys!$G12:$K12,0))),"P",IF(AC13="P","C","")))
B14: Deployment 12 | D14: =IF(NOT(ISNA(MATCH(D$2,Sys!$C13:$E13,0))),"U",IF(NOT(ISNA(MATCH(D$2,Sys!$G13:$K13,0))),"P",IF(C14="P","C",""))) | E14: =IF(NOT(ISNA(MATCH(E$2,Sys!$C13:$E13,0))),"U",IF(NOT(ISNA(MATCH(E$2,Sys!$G13:$K13,0))),"P",IF(D14="P","C",""))) | F14: =IF(NOT(ISNA(MATCH(F$2,Sys!$C13:$E13,0))),"U",IF(NOT(ISNA(MATCH(F$2,Sys!$G13:$K13,0))),"P",IF(E14="P","C",""))) | G14: =IF(NOT(ISNA(MATCH(G$2,Sys!$C13:$E13,0))),"U",IF(NOT(ISNA(MATCH(G$2,Sys!$G13:$K13,0))),"P",IF(F14="P","C",""))) | H14: =IF(NOT(ISNA(MATCH(H$2,Sys!$C13:$E13,0))),"U",IF(NOT(ISNA(MATCH(H$2,Sys!$G13:$K13,0))),"P",IF(G14="P","C",""))) | I14: =IF(NOT(ISNA(MATCH(I$2,Sys!$C13:$E13,0))),"U",IF(NOT(ISNA(MATCH(I$2,Sys!$G13:$K13,0))),"P",IF(H14="P","C",""))) | J14: =IF(NOT(ISNA(MATCH(J$2,Sys!$C13:$E13,0))),"U",IF(NOT(ISNA(MATCH(J$2,Sys!$G13:$K13,0))),"P",IF(I14="P","C",""))) | K14: =IF(NOT(ISNA(MATCH(K$2,Sys!$C13:$E13,0))),"U",IF(NOT(ISNA(MATCH(K$2,Sys!$G13:$K13,0))),"P",IF(J14="P","C",""))) | ... AD14: =IF(NOT(ISNA(MATCH(AD$2,Sys!$C13:$E13,0))),"U",IF(NOT(ISNA(MATCH(AD$2,Sys!$G13:$K13,0))),"P",IF(AC14="P","C","")))
... B24: Deployment 22 | D24: =IF(NOT(ISNA(MATCH(D$2,Sys!$C23:$E23,0))),"U",IF(NOT(ISNA(MATCH(D$2,Sys!$G23:$K23,0))),"P",IF(C24="P","C",""))) | E24: =IF(NOT(ISNA(MATCH(E$2,Sys!$C23:$E23,0))),"U",IF(NOT(ISNA(MATCH(E$2,Sys!$G23:$K23,0))),"P",IF(D24="P","C",""))) | F24: =IF(NOT(ISNA(MATCH(F$2,Sys!$C23:$E23,0))),"U",IF(NOT(ISNA(MATCH(F$2,Sys!$G23:$K23,0))),"P",IF(E24="P","C",""))) | G24: =IF(NOT(ISNA(MATCH(G$2,Sys!$C23:$E23,0))),"U",IF(NOT(ISNA(MATCH(G$2,Sys!$G23:$K23,0))),"P",IF(F24="P","C",""))) | H24: =IF(NOT(ISNA(MATCH(H$2,Sys!$C23:$E23,0))),"U",IF(NOT(ISNA(MATCH(H$2,Sys!$G23:$K23,0))),"P",IF(G24="P","C",""))) | I24: =IF(NOT(ISNA(MATCH(I$2,Sys!$C23:$E23,0))),"U",IF(NOT(ISNA(MATCH(I$2,Sys!$G23:$K23,0))),"P",IF(H24="P","C",""))) -> U | J24: =IF(NOT(ISNA(MATCH(J$2,Sys!$C23:$E23,0))),"U",IF(NOT(ISNA(MATCH(J$2,Sys!$G23:$K23,0))),"P",IF(I24="P","C",""))) -> U | K24: =IF(NOT(ISNA(MATCH(K$2,Sys!$C23:$E23,0))),"U",IF(NOT(ISNA(MATCH(K$2,Sys!$G23:$K23,0))),"P",IF(J24="P","C",""))) -> U | ... AD24: =IF(NOT(ISNA(MATCH(AD$2,Sys!$C23:$E23,0))),"U",IF(NOT(ISNA(MATCH(AD$2,Sys!$G23:$K23,0))),"P",IF(AC24="P","C","")))
C27: UAT | D27: =COUNTIF(D3:D24,"=U") -> 2 | E27: =COUNTIF(E3:E24,"=U") -> 3 | F27: =COUNTIF(F3:F24,"=U") -> 8 | G27: =COUNTIF(G3:G24,"=U") -> 6 | H27: =COUNTIF(H3:H24,"=U") -> 5 | I27: =COUNTIF(I3:I24,"=U") -> 5 | J27: =COUNTIF(J3:J24,"=U") -> 7 | K27: =COUNTIF(K3:K24,"=U") -> 8 | ... AD27: =COUNTIF(AD3:AD24,"=U") -> 0
C28: PROD | D28: =COUNTIF(D3:D24,"=P") -> 0 | E28: =COUNTIF(E3:E24,"=P") -> 0 | F28: =COUNTIF(F3:F24,"=P") -> 0 | G28: =COUNTIF(G3:G24,"=P") -> 0 | H28: =COUNTIF(H3:H24,"=P") -> 0 | I28: =COUNTIF(I3:I24,"=P") -> 0 | J28: =COUNTIF(J3:J24,"=P") -> 1 | K28: =COUNTIF(K3:K24,"=P") -> 4 | ... AD28: =COUNTIF(AD3:AD24,"=P") -> 0
C29: Total | D29: =SUM(D27:D28) -> 2 | E29: =SUM(E27:E28) -> 3 | F29: =SUM(F27:F28) -> 8 | G29: =SUM(G27:G28) -> 6 | H29: =SUM(H27:H28) -> 5 | I29: =SUM(I27:I28) -> 5 | J29: =SUM(J27:J28) -> 8 | K29: =SUM(K27:K28) -> 12 | ... AD29: =SUM(AD27:AD28) -> 0
C40: Day 0 | D40: =COUNTIF(D3:D24,"=C") -> 0 | E40: =COUNTIF(E3:E24,"=C") -> 0 | F40: =COUNTIF(F3:F24,"=C") -> 0 | G40: =COUNTIF(G3:G24,"=C") -> 0 | H40: =COUNTIF(H3:H24,"=C") -> 0 | I40: =COUNTIF(I3:I24,"=C") -> 0 | J40: =COUNTIF(J3:J24,"=C") -> 0 | K40: =COUNTIF(K3:K24,"=C") -> 0 | ... AD40: =COUNTIF(AD3:AD24,"=C") -> 0
C41: Day 0 ALL | D41: =D40 -> 0 | E41: =D41+E40 -> 0 | F41: =E41+F40 -> 0 | G41: =F41+G40 -> 0 | H41: =G41+H40 -> 0 | I41: =H41+I40 -> 0 | J41: =I41+J40 -> 0 | K41: =J41+K40 -> 0 | L41: =K41+L40 -> 0 | ... AD41: =AC41+AD40 -> 22
C42: Actual | D42: =COUNTIF(D3:D24,"C") -> 0 | E42: =COUNTIF(E3:E24,"C") -> 0 | F42: =COUNTIF(F3:F24,"C") -> 0 | G42: =COUNTIF(G3:G24,"C") -> 0 | H42: =COUNTIF(H3:H24,"C") -> 0 | I42: =COUNTIF(I3:I24,"C") -> 0 | J42: =COUNTIF(J3:J24,"C") -> 0 | K42: =COUNTIF(K3:K24,"C") -> 0 | ... AD42: =COUNTIF(AD3:AD24,"C") -> 0
C43: Actual All | D43: =D42 -> 0 | E43: =D43+E42 -> 0 | F43: =E43+F42 -> 0 | G43: =F43+G42 -> 0 | H43: =G43+H42 -> 0 | I43: =H43+I42 -> 0 | J43: =I43+J42 -> 0 | K43: =J43+K42 -> 0 | L43: =K43+L42 -> 0 | ... AD43: =AC43+AD42 -> 22

Sheet Sys
B1: UAT | C1: 1 | D1: =IFERROR(C1+1,"") -> 2 | E1: =IFERROR(C1+2,"") -> 3 | F1: PROD | G1: =IFERROR(WEEKNUM(F1,2),"") | H1: =IFERROR(G1+1,"") | I1: =IFERROR(H1+1,"") | J1: =IFERROR(I1+1,"") | K1: =IFERROR(J1+1,"")
A2: Deployment 1 | B2: ='Progress Tracker'!B2 -> 41645 | C2: =IFERROR(WEEKNUM(B2,2),"") -> 2 | D2: =IFERROR(C2+1,"") -> 3 | E2: =IFERROR(C2+2,"") -> 4 | F2: ='Progress Tracker'!C2 -> 41718 | G2: =IFERROR(WEEKNUM(F2,2),"") -> 12 | H2: =IFERROR(G2+1,"") -> 13 | I2: =IFERROR(H2+1,"") -> 14 | J2: =IFERROR(I2+1,"") -> 15 | K2: =IFERROR(J2+1,"") -> 16
A3: Deployment 2 | B3: ='Progress Tracker'!B3 -> 41654 | C3: =IFERROR(WEEKNUM(B3,2),"") -> 3 | D3: =IFERROR(C3+1,"") -> 4 | E3: =IFERROR(C3+2,"") -> 5 | F3: ='Progress Tracker'!C3 -> 41718 | G3: =IFERROR(WEEKNUM(F3,2),"") -> 12 | H3: =IFERROR(G3+1,"") -> 13 | I3: =IFERROR(H3+1,"") -> 14 | J3: =IFERROR(I3+1,"") -> 15 | K3: =IFERROR(J3+1,"") -> 16
A4: Deployment 3 | B4: ='Progress Tracker'!B4 -> 41657 | C4: =IFERROR(WEEKNUM(B4,2),"") -> 3 | D4: =IFERROR(C4+1,"") -> 4 | E4: =IFERROR(C4+2,"") -> 5 | F4: ='Progress Tracker'!C4 -> 41690 | G4: =IFERROR(WEEKNUM(F4,2),"") -> 8 | H4: =IFERROR(G4+1,"") -> 9 | I4: =IFERROR(H4+1,"") -> 10 | J4: =IFERROR(I4+1,"") -> 11 | K4: =IFERROR(J4+1,"") -> 12
A5: Deployment 4 | B5: ='Progress Tracker'!B5 -> 41657 | C5: =IFERROR(WEEKNUM(B5,2),"") -> 3 | D5: =IFERROR(C5+1,"") -> 4 | E5: =IFERROR(C5+2,"") -> 5 | F5: ='Progress Tracker'!C5 -> 41690 | G5: =IFERROR(WEEKNUM(F5,2),"") -> 8 | H5: =IFERROR(G5+1,"") -> 9 | I5: =IFERROR(H5+1,"") -> 10 | J5: =IFERROR(I5+1,"") -> 11 | K5: =IFERROR(J5+1,"") -> 12
A6: Deployment 5 | B6: ='Progress Tracker'!B6 -> 41684 | C6: =IFERROR(WEEKNUM(B6,2),"") -> 7 | D6: =IFERROR(C6+1,"") -> 8 | E6: =IFERROR(C6+2,"") -> 9 | F6: ='Progress Tracker'!C6 -> 41749 | G6: =IFERROR(WEEKNUM(F6,2),"") -> 16 | H6: =IFERROR(G6+1,"") -> 17 | I6: =IFERROR(H6+1,"") -> 18 | J6: =IFERROR(I6+1,"") -> 19 | K6: =IFERROR(J6+1,"") -> 20
A7: Deployment 6 | B7: ='Progress Tracker'!B7 -> 41682 | C7: =IFERROR(WEEKNUM(B7,2),"") -> 7 | D7: =IFERROR(C7+1,"") -> 8 | E7: =IFERROR(C7+2,"") -> 9 | F7: ='Progress Tracker'!C7 -> 41744 | G7: =IFERROR(WEEKNUM(F7,2),"") -> 16 | H7: =IFERROR(G7+1,"") -> 17 | I7: =IFERROR(H7+1,"") -> 18 | J7: =IFERROR(I7+1,"") -> 19 | K7: =IFERROR(J7+1,"") -> 20
A8: Deployment 7 | B8: ='Progress Tracker'!B8 -> 41677 | C8: =IFERROR(WEEKNUM(B8,2),"") -> 6 | D8: =IFERROR(C8+1,"") -> 7 | E8: =IFERROR(C8+2,"") -> 8 | F8: ='Progress Tracker'!C8 -> 41730 | G8: =IFERROR(WEEKNUM(F8,2),"") -> 14 | H8: =IFERROR(G8+1,"") -> 15 | I8: =IFERROR(H8+1,"") -> 16 | J8: =IFERROR(I8+1,"") -> 17 | K8: =IFERROR(J8+1,"") -> 18
A9: Deployment 8 | B9: ='Progress Tracker'!B9 -> 41643 | C9: =IFERROR(WEEKNUM(B9,2),"") -> 1 | D9: =IFERROR(C9+1,"") -> 2 | E9: =IFERROR(C9+2,"") -> 3 | F9: ='Progress Tracker'!C9 -> 41736 | G9: =IFERROR(WEEKNUM(F9,2),"") -> 15 | H9: =IFERROR(G9+1,"") -> 16 | I9: =IFERROR(H9+1,"") -> 17 | J9: =IFERROR(I9+1,"") -> 18 | K9: =IFERROR(J9+1,"") -> 19
A10: Deployment 9 | B10: ='Progress Tracker'!B10 -> 41643 | C10: =IFERROR(WEEKNUM(B10,2),"") -> 1 | D10: =IFERROR(C10+1,"") -> 2 | E10: =IFERROR(C10+2,"") -> 3 | F10: ='Progress Tracker'!C10 -> 41759 | G10: =IFERROR(WEEKNUM(F10,2),"") -> 18 | H10: =IFERROR(G10+1,"") -> 19 | I10: =IFERROR(H10+1,"") -> 20 | J10: =IFERROR(I10+1,"") -> 21 | K10: =IFERROR(J10+1,"") -> 22
A11: Deployment 10 | B11: ='Progress Tracker'!B11 -> 41702 | C11: =IFERROR(WEEKNUM(B11,2),"") -> 10 | D11: =IFERROR(C11+1,"") -> 11 | E11: =IFERROR(C11+2,"") -> 12 | F11: ='Progress Tracker'!C11 -> 41749 | G11: =IFERROR(WEEKNUM(F11,2),"") -> 16 | H11: =IFERROR(G11+1,"") -> 17 | I11: =IFERROR(H11+1,"") -> 18 | J11: =IFERROR(I11+1,"") -> 19 | K11: =IFERROR(J11+1,"") -> 20
A12: Deployment 11 | B12: ='Progress Tracker'!B12 -> 41713 | C12: =IFERROR(WEEKNUM(B12,2),"") -> 11 | D12: =IFERROR(C12+1,"") -> 12 | E12: =IFERROR(C12+2,"") -> 13 | F12: ='Progress Tracker'!C12 -> 41749 | G12: =IFERROR(WEEKNUM(F12,2),"") -> 16 | H12: =IFERROR(G12+1,"") -> 17 | I12: =IFERROR(H12+1,"") -> 18 | J12: =IFERROR(I12+1,"") -> 19 | K12: =IFERROR(J12+1,"") -> 20
A13: Deployment 12 | B13: ='Progress Tracker'!B13 -> 41713 | C13: =IFERROR(WEEKNUM(B13,2),"") -> 11 | D13: =IFERROR(C13+1,"") -> 12 | E13: =IFERROR(C13+2,"") -> 13 | F13: ='Progress Tracker'!C13 -> 41749 | G13: =IFERROR(WEEKNUM(F13,2),"") -> 16 | H13: =IFERROR(G13+1,"") -> 17 | I13: =IFERROR(H13+1,"") -> 18 | J13: =IFERROR(I13+1,"") -> 19 | K13: =IFERROR(J13+1,"") -> 20
... A23: Deployment 22 | B23: ='Progress Tracker'!B23 -> 41678 | C23: =IFERROR(WEEKNUM(B23,2),"") -> 6 | D23: =IFERROR(C23+1,"") -> 7 | E23: =IFERROR(C23+2,"") -> 8 | F23: ='Progress Tracker'!C23 -> 41742 | G23: =IFERROR(WEEKNUM(F23,2),"") -> 15 | H23: =IFERROR(G23+1,"") -> 16 | I23: =IFERROR(H23+1,"") -> 17 | J23: =IFERROR(I23+1,"") -> 18 | K23: =IFERROR(J23+1,"") -> 19
